BEGIN:VCALENDAR
VERSION:2.0
PRODID:-//Office de Tourisme Avre Luce Noye - ECPv6.15.20//NONSGML v1.0//EN
CALSCALE:GREGORIAN
METHOD:PUBLISH
X-WR-CALNAME:Office de Tourisme Avre Luce Noye
X-ORIGINAL-URL:https://www.tourisme-avrelucenoye.fr
X-WR-CALDESC:Évènements pour Office de Tourisme Avre Luce Noye
REFRESH-INTERVAL;VALUE=DURATION:PT1H
X-Robots-Tag:noindex
X-PUBLISHED-TTL:PT1H
BEGIN:VTIMEZONE
TZID:Europe/Paris
BEGIN:DAYLIGHT
TZOFFSETFROM:+0100
TZOFFSETTO:+0200
TZNAME:CEST
DTSTART:20250330T010000
END:DAYLIGHT
BEGIN:STANDARD
TZOFFSETFROM:+0200
TZOFFSETTO:+0100
TZNAME:CET
DTSTART:20251026T010000
END:STANDARD
BEGIN:DAYLIGHT
TZOFFSETFROM:+0100
TZOFFSETTO:+0200
TZNAME:CEST
DTSTART:20260329T010000
END:DAYLIGHT
BEGIN:STANDARD
TZOFFSETFROM:+0200
TZOFFSETTO:+0100
TZNAME:CET
DTSTART:20261025T010000
END:STANDARD
BEGIN:DAYLIGHT
TZOFFSETFROM:+0100
TZOFFSETTO:+0200
TZNAME:CEST
DTSTART:20270328T010000
END:DAYLIGHT
BEGIN:STANDARD
TZOFFSETFROM:+0200
TZOFFSETTO:+0100
TZNAME:CET
DTSTART:20271031T010000
END:STANDARD
END:VTIMEZONE
BEGIN:VEVENT
DTSTART;TZID=Europe/Paris:20260325T080000
DTEND;TZID=Europe/Paris:20261125T170000
DTSTAMP:20260424T054653
CREATED:20260122T111126Z
LAST-MODIFIED:20260122T111127Z
UID:22095-1774425600-1795626000@www.tourisme-avrelucenoye.fr
SUMMARY:visite du centre de tri du SMITOM GRATUIT à Rosières en Santerre
DESCRIPTION:le SMITOM vous propose \ndes visites du centre de tri à 14h00 \nsitué avenue du fossé Pierret à Rosières en Santerre \nle mercredi 25 mars \nle mercredi 17 juin \nle mercredi 23 septembre \nle mercredi 25 novembre  \ndurée de la visite 1h  \nréservation obligatoire au 03 22 78 60 69 \nsite non accessible aux personnes à mobilité réduite et aux enfants de moins de 8 ans 
URL:https://www.tourisme-avrelucenoye.fr/sortie/visite-du-centre-de-tri-du-smitom-gratuit-a-rosieres-en-santerre/
ATTACH;FMTTYPE=image/jpeg:https://www.tourisme-avrelucenoye.fr/wp-content/uploads/2026/01/visite-trimestrielle-2026-centre-de-tri-smitom.jpg
END:VEVENT
BEGIN:VEVENT
DTSTART;TZID=Europe/Paris:20260331T090000
DTEND;TZID=Europe/Paris:20260429T190000
DTSTAMP:20260424T054653
CREATED:20260319T082917Z
LAST-MODIFIED:20260319T082917Z
UID:22731-1774947600-1777489200@www.tourisme-avrelucenoye.fr
SUMMARY:Vernissage de l'exposition du peintre Dominique CHEDIN à la Bibliothèque Louis Seurvat à Ailly sur Noye GRATUIT
DESCRIPTION:Exposition de peinture de l’artiste peintre plasticienne Dominique CHEDIN \ndu mardi 31 mars au mercredi 29 avril \nVernisagge le vendredi 3 avril à partir de 18h  \nBibliothèque Louis Seurvat 13 rue Saint Martin à Ailly sur Noye  \nplus d’infos au 03 22 49 65 06  \nHoraires d’ouverture de la bibliothèque :  \nvendredi de 16h à 19h \nsamedi de 10h à 12h \nmardi de 16h à 19h \nmercredi de 9h à 12h30 et de 14h à 19h \n\n\n\nIllustrations (peinture\, arts plastiques) et tableaux scéniques autour de la littérature orale (contes\, légendes\, fables\, mythologie)\n\n\n \n\n\n\n\n\n\n 
URL:https://www.tourisme-avrelucenoye.fr/sortie/vernissage-de-lexposition-du-peintre-dominique-chedin-a-la-bibliotheque-louis-seurvat-a-ailly-sur-noye-gratuit/
ATTACH;FMTTYPE=image/jpeg:https://www.tourisme-avrelucenoye.fr/wp-content/uploads/2026/03/31-03-au-29-04-26-expo-ailly_page-0001-rotated.jpg
END:VEVENT
BEGIN:VEVENT
DTSTART;TZID=Europe/Paris:20260411T100000
DTEND;TZID=Europe/Paris:20260426T190000
DTSTAMP:20260424T054653
CREATED:20260415T091951Z
LAST-MODIFIED:20260415T091951Z
UID:23019-1775901600-1777230000@www.tourisme-avrelucenoye.fr
SUMMARY:Ouverture de Terrains d'aventure à Ailly sur Noye
DESCRIPTION:Terrains d’aventure – Ailly sur Noye \nLa saison 2026 ouvrira ses portes dès le Samedi 11 Avril.\nOuvert 7jrs/7 durant les vacances scolaires de la zone B\, puis Mercredis & week-ends hors vacances scolaires. \nHoraire d’ouverture: 10H-19H \nplus d’infos au 06 52 59 62 92 ou par mail à l’adresse suivante : terrainsdaventure@gmail.com \nou sur leur page Facebook : https://www.facebook.com/terrainsdaventure.fr
URL:https://www.tourisme-avrelucenoye.fr/sortie/ouverture-de-terrains-daventure-a-ailly-sur-noye/
ATTACH;FMTTYPE=image/jpeg:https://www.tourisme-avrelucenoye.fr/wp-content/uploads/2023/11/terraindaventure.jpg
END:VEVENT
BEGIN:VEVENT
DTSTART;TZID=Europe/Paris:20260411T133000
DTEND;TZID=Europe/Paris:20260930T180000
DTSTAMP:20260424T054653
CREATED:20260409T084728Z
LAST-MODIFIED:20260409T084812Z
UID:22954-1775914200-1790791200@www.tourisme-avrelucenoye.fr
SUMMARY:pédalos et mini-golf au plan d'eau de Berny sur Noye
DESCRIPTION:Du 11 avril au 26 avril ouvert tous les jours de 13h30 à 18h \nen Juillet et Aout  ouvert tous les jours de 13h30 à 19h \nDu 29 Avril au 3 Juillet et au mois de septembre ouvert Mercredis\, week ends et jours fériés (fermé le 1er mai) de 13h30 à 18h \nSOUS RÉSERVE DES CONDITIONS MÉTÉOROLOGIQUES \n  \nTarifs pédalos – 30 minutes \npédalos 2 places 6€ \npédalos 4 places 10€ \n  \nTarifs mini-golf \nAdulte 4€ \nEnfant et groupe 2€ \n  \nrenseignements au 03.22.41.71.71 ou mairie@aillysurnoye.fr
URL:https://www.tourisme-avrelucenoye.fr/sortie/pedalos-et-mini-golf-au-plan-deau-de-berny-sur-noye/
ATTACH;FMTTYPE=image/jpeg:https://www.tourisme-avrelucenoye.fr/wp-content/uploads/2026/04/tarif-et-dates-pedalo-minigolf.jpg
END:VEVENT
BEGIN:VEVENT
DTSTART;TZID=Europe/Paris:20260413T090000
DTEND;TZID=Europe/Paris:20260424T170000
DTSTAMP:20260424T054653
CREATED:20260324T100917Z
LAST-MODIFIED:20260324T100917Z
UID:22796-1776070800-1777050000@www.tourisme-avrelucenoye.fr
SUMMARY:Stages du centre équestre Val de Noye : ouverts à tous adhérents et non adhérents
DESCRIPTION:le Centre Équestre du Val de Noye vous propose\nSTAGE VACANCES D’AVRIL \nouverts à tous adhérents et non adhérents\ndu lundi 13 avril au vendredi 24 avril\n\n\nEnvie de progresser ou de partager un moment avec votre poney préféré du Centre Équestre du Val de Noye !\n\n\nVoici le planning des stages des vacances de février !\nplus d’infos et inscription au 06 20 97 03 30
URL:https://www.tourisme-avrelucenoye.fr/sortie/stages-du-centre-equestre-val-de-noye-ouverts-a-tous-adherents-et-non-adherents/
ATTACH;FMTTYPE=image/jpeg:https://www.tourisme-avrelucenoye.fr/wp-content/uploads/2026/03/13-au-24-04-stages-equestre-ailly.jpg
END:VEVENT
BEGIN:VEVENT
DTSTART;TZID=Europe/Paris:20260417T180000
DTEND;TZID=Europe/Paris:20261127T210000
DTSTAMP:20260424T054653
CREATED:20260414T072511Z
LAST-MODIFIED:20260414T072511Z
UID:23000-1776448800-1795813200@www.tourisme-avrelucenoye.fr
SUMMARY:Café associatif à Jumel tous les derniers vendredis du mois sauf en décembre
DESCRIPTION:l’association graines de liens vous propose  \nun moment de partage\, de rencontre en toute convivialité  \nchaque dernier vendredi du mois de 18h à 21h \nau café associatif situé au 6 rue Paul Bert à Jumel  \nadhésion annuelle de 2€  \ncontact : grainesdeliens@hotmail.com ou 06 10 22 33 64 \nQue vous soyez un habitué ou que ce soit votre première visite\, vous êtes le bienvenu pour découvrir cette atmosphère amicale dans un cadre accueillant.
URL:https://www.tourisme-avrelucenoye.fr/sortie/cafe-associatif-a-jumel-tous-les-derniers-vendredis-du-mois-sauf-en-decembre/
ATTACH;FMTTYPE=image/png:https://www.tourisme-avrelucenoye.fr/wp-content/uploads/2026/04/cafe-assoc-jumel.png
END:VEVENT
BEGIN:VEVENT
DTSTART;TZID=Europe/Paris:20260424T090000
DTEND;TZID=Europe/Paris:20260424T120000
DTSTAMP:20260424T054653
CREATED:20260417T100841Z
LAST-MODIFIED:20260417T100841Z
UID:23066-1777021200-1777032000@www.tourisme-avrelucenoye.fr
SUMMARY:Rando santé + à Rocquencourt : Rando Val de Noye
DESCRIPTION:Rando Val de Noye vous propose\nune rando santé+\nle vendredi 24 Avril \nrendez-vous à 9h église de Rocquencourt\nrandonnée encadrée par Daniel au 06.03.13.85.31\nou Michel au 06.10.18.89.13\nEn cas de vigilance météo\, la rando est annulée 
URL:https://www.tourisme-avrelucenoye.fr/sortie/rando-sante-a-rocquencourt-rando-val-de-noye/
ATTACH;FMTTYPE=image/jpeg:https://www.tourisme-avrelucenoye.fr/wp-content/uploads/2026/04/rocquencourt-eglise-2.jpg
END:VEVENT
BEGIN:VEVENT
DTSTART;TZID=Europe/Paris:20260424T203000
DTEND;TZID=Europe/Paris:20260424T203000
DTSTAMP:20260424T054653
CREATED:20260409T083542Z
LAST-MODIFIED:20260416T090617Z
UID:22952-1777062600-1777062600@www.tourisme-avrelucenoye.fr
SUMMARY:Ciné à Ailly sur Noye
DESCRIPTION:Ciné Pop et Ailly sur Noye vous présentent Alter Ego Laurent Lafitte\, un film de Nicolas et Bruno \nLe vendredi 24 Avril à 20h30 \nsalle des fêtes d’Ailly sur Noye \nTarif plein 5€ \nTarif réduits / groupe 4€ \nTarif groupe / enfant 3€ \n\nSynopsis / Tout public\n\n\nAlex a un problème : son nouveau voisin est son sosie parfait. Avec des cheveux. Un double en mieux\, qui va totalement bouleverser son existence.
URL:https://www.tourisme-avrelucenoye.fr/sortie/cine-a-aillly-sur-noye/
ATTACH;FMTTYPE=image/jpeg:https://www.tourisme-avrelucenoye.fr/wp-content/uploads/2026/04/24-04-cine-ailly-alter-ego.jpg
END:VEVENT
BEGIN:VEVENT
DTSTART;TZID=Europe/Paris:20260425T090000
DTEND;TZID=Europe/Paris:20260426T160000
DTSTAMP:20260424T054653
CREATED:20260324T095058Z
LAST-MODIFIED:20260415T130652Z
UID:22793-1777107600-1777219200@www.tourisme-avrelucenoye.fr
SUMMARY:Bivouac Napoléonien : vers les 100 jours de Paris\, Cottenchy\, Waterloo ouvert à tous
DESCRIPTION:l’association Les Baïonnettes de Cottenchy’ organise \nun Bivouac Napoléonien \nà Cottenchy les samedi 25 et dimanche 26 avril :ouvert à tous \nExactement 216 ans ce 20 mars 1815 ! \nau programme : \n\nle Samedi 25 avril :\n9h30 Départ marche historique\, toutes personnes peuvent nous suivre.\n11h30 Retour au bivouac – Repas\, temps libre\, école individuelle\n14h30-16h30 Manœuvre Cavalerie-Infanterie\n\n\nle Dimanche 26 avril :\n10h30 Petit défiler de la place au moulin\n11h30 Retour suivi du repas et activité\n15h00 Fin du bivouac\n\n\nDurant tout le bivouac\, vie de bivouac\, corvées\, activité diverses.\n\n 
URL:https://www.tourisme-avrelucenoye.fr/sortie/bivouac-napoleonien-vers-les-100-jours-de-paris-cottenchy-waterloo-ouvert-a-tous/
ATTACH;FMTTYPE=image/jpeg:https://www.tourisme-avrelucenoye.fr/wp-content/uploads/2026/03/25-et-26-04-bivouac-napoleonien-cottenchy.jpg
END:VEVENT
BEGIN:VEVENT
DTSTART;TZID=Europe/Paris:20260425T093000
DTEND;TZID=Europe/Paris:20260425T120000
DTSTAMP:20260424T054653
CREATED:20260416T092414Z
LAST-MODIFIED:20260416T092414Z
UID:23039-1777109400-1777118400@www.tourisme-avrelucenoye.fr
SUMMARY:Repair Café à Moreuil
DESCRIPTION:Repair’Café : parceque avant de jeter\, je répare  \nle samedi 25 avril de 9h30 à 12h \nau centre culturel 2 rue Gambetta à Moreuil (en face de l’église) \nc’est GRATUIT ! 
URL:https://www.tourisme-avrelucenoye.fr/sortie/repair-cafe-a-moreuil/
ATTACH;FMTTYPE=image/jpeg:https://www.tourisme-avrelucenoye.fr/wp-content/uploads/2026/04/25-04-repair-cafe-scaled.jpg
END:VEVENT
BEGIN:VEVENT
DTSTART;TZID=Europe/Paris:20260425T100000
DTEND;TZID=Europe/Paris:20260425T120000
DTSTAMP:20260424T054653
CREATED:20260326T142718Z
LAST-MODIFIED:20260326T142718Z
UID:22868-1777111200-1777118400@www.tourisme-avrelucenoye.fr
SUMMARY:animation jeux de plateau à Ailly sur Noye GRATUIT
DESCRIPTION:l’association GAME EVER et la bibiothèque Louis Seurvat vous proposent  \nune animation jeux de plateau  \nle samedi 25 avril dès 10h  \ndans les locaux de la bibliothèque Louis Seuravt située 13  rue St Martin 80250 Ailly sur Noye  \ninscription au 03 22 49 65 06  \ndécouvrez  \n-ALVEOLA \nECOSYSTEM FORET \n-SYMBIOSE \n-REFUGE
URL:https://www.tourisme-avrelucenoye.fr/sortie/animation-jeux-de-plateau-a-ailly-sur-noye-gratuit/
ATTACH;FMTTYPE=image/jpeg:https://www.tourisme-avrelucenoye.fr/wp-content/uploads/2026/03/25-04-soiree-game-ever-ailly.jpg
END:VEVENT
BEGIN:VEVENT
DTSTART;TZID=Europe/Paris:20260425T190000
DTEND;TZID=Europe/Paris:20260425T230000
DTSTAMP:20260424T054653
CREATED:20260414T072902Z
LAST-MODIFIED:20260414T072902Z
UID:23004-1777143600-1777158000@www.tourisme-avrelucenoye.fr
SUMMARY:CAF'CONCERT à Ailly sur Noye : Mind CollapSe GRATUIT
DESCRIPTION:La municipalité d’Ailly sur Noye vous offre  \nun CAF’CONCERT avec le groupe Mind CollpSe (Rock progressif)  \nle samedi 25 avril à 20h30 \ndans la salle des fêtes d’Ailly sur Noye  \nentrée libre à partir de 19h \nbuvette et snacking sur place proposés par l’association de jumelage  \nplus d’infos au 03 22 41 71 71 
URL:https://www.tourisme-avrelucenoye.fr/sortie/cafconcert-a-ailly-sur-noye-mind-collapse-gratuit/
ATTACH;FMTTYPE=image/jpeg:https://www.tourisme-avrelucenoye.fr/wp-content/uploads/2026/04/25-04-concert-ailly.jpg
END:VEVENT
BEGIN:VEVENT
DTSTART;TZID=Europe/Paris:20260426T084500
DTEND;TZID=Europe/Paris:20260426T120000
DTSTAMP:20260424T054653
CREATED:20260323T135905Z
LAST-MODIFIED:20260323T135905Z
UID:22790-1777193100-1777204800@www.tourisme-avrelucenoye.fr
SUMMARY:rando de 13.5 km à St Fuscien : Rando Aventure Moreuil
DESCRIPTION:Rando aventure Moreuil vous propose\nune randonnée 13.5 km\nle dimanche 26 avril\nrendez-vous à 8h45 église de Saint Fuscien \nco-voiturage à 8h20 à Moreuil\nrandonnée encadrée par Jacques 07.81.23.92.30\nmail : jacques.horemans80@outlook.fr\nEn cas de vigilance météo\, la rando est annulée
URL:https://www.tourisme-avrelucenoye.fr/sortie/rando-de-13-5-km-a-st-fuscien-rando-aventure-moreuil/
ATTACH;FMTTYPE=image/jpeg:https://www.tourisme-avrelucenoye.fr/wp-content/uploads/2023/02/©aurelie-lemerciereglise-st-fuscien-09-2021-p1--scaled-e1772790121122.jpg
END:VEVENT
BEGIN:VEVENT
DTSTART;TZID=Europe/Paris:20260426T100000
DTEND;TZID=Europe/Paris:20260426T170000
DTSTAMP:20260424T054653
CREATED:20260227T152844Z
LAST-MODIFIED:20260227T152844Z
UID:22529-1777197600-1777222800@www.tourisme-avrelucenoye.fr
SUMMARY:Bourse aux plantes et Marché Artisanal à Le Quesnel : emplacement GRATUIT
DESCRIPTION:le café associatif O Tchiny organise  \nune bourse aux plantes et un marché artisanal \nle dimanche 26 avril de 10h à 17h \nRue Gaston Blanchard à Le Quesnel  \nemplacement GRATUIT  \nréservation obligatoire au 06 03 64 33 90 ou 06 15 57 53 46  \nbuvette et petite restauration sur place 
URL:https://www.tourisme-avrelucenoye.fr/sortie/bourse-aux-plantes-et-marche-artisanal-a-le-quesnel-emplacement-gratuit/
ATTACH;FMTTYPE=image/jpeg:https://www.tourisme-avrelucenoye.fr/wp-content/uploads/2026/02/26-04-bourse-aux-plantes-marche-artisanal-le-quesnel.jpg
END:VEVENT
BEGIN:VEVENT
DTSTART;TZID=Europe/Paris:20260426T143000
DTEND;TZID=Europe/Paris:20260426T190000
DTSTAMP:20260424T054653
CREATED:20260123T142244Z
LAST-MODIFIED:20260123T142244Z
UID:22113-1777213800-1777230000@www.tourisme-avrelucenoye.fr
SUMMARY:Delphine HUBIN et Pascal à la trompette à Flers sur Noye
DESCRIPTION:Delphine HUBIN et Pascal à la trompette  \nle dimanche 26 avril de 14h30 à 19h \ndans la salle des fêtes de Flers sur Noye  \nAprès-midi dansant  \ntarif 12€  \nréservation au 06 67 44 01 48
URL:https://www.tourisme-avrelucenoye.fr/sortie/delphine-hubin-et-pascal-a-la-trompette-a-flers-sur-noye/
ATTACH;FMTTYPE=image/jpeg:https://www.tourisme-avrelucenoye.fr/wp-content/uploads/2026/01/26-04-delphine-hubin-flers-sur-noye.jpg
END:VEVENT
BEGIN:VEVENT
DTSTART;TZID=Europe/Paris:20260428T084500
DTEND;TZID=Europe/Paris:20260428T120000
DTSTAMP:20260424T054653
CREATED:20260417T094537Z
LAST-MODIFIED:20260417T094538Z
UID:23053-1777365900-1777377600@www.tourisme-avrelucenoye.fr
SUMMARY:Marche active Bois Magneux à Cottenchy : Rando Val de Noye
DESCRIPTION:Rando Val de Noye vous propose\nune Marche Active\nle mardi 28 Avril\nrendez-vous à 8h45 Bois Magneux face au lycée du Paraclet \nrandonnée encadrée par Michel 06 10 18 89 13\nEn cas de vigilance météo\, la rando est annulée 
URL:https://www.tourisme-avrelucenoye.fr/sortie/marche-active-bois-magneux-a-cottenchy-rando-val-de-noye/
ATTACH;FMTTYPE=image/png:https://www.tourisme-avrelucenoye.fr/wp-content/uploads/2023/06/bois-magneux-cottenchy-2-e1697536337487.png
END:VEVENT
BEGIN:VEVENT
DTSTART;TZID=Europe/Paris:20260428T183000
DTEND;TZID=Europe/Paris:20260428T210000
DTSTAMP:20260424T054653
CREATED:20260218T111051Z
LAST-MODIFIED:20260323T102959Z
UID:22460-1777401000-1777410000@www.tourisme-avrelucenoye.fr
SUMMARY:TALIEN : Soirée de lancement aux Voûtes du Plessier
DESCRIPTION:Venez découvrir le Collectif TALIEN ! \nQuand à lieu cette soirée ?\nle mardi 28 avril 2026\nà partir de 18h30\naux Voûtes du Plessier – Grivesnes \n \nQui vous allez retrouver lors de cette soirée ?\nEntrepreneurs\, artisans\, commerçants\, agriculteurs\, professions libérales\, associations et porteurs de projets locaux.\n\nN’hésitez pas à relayer à vos contacts qui peuvent être intéressé par ce collectif et cette soirée : \nhttps://www.helloasso.com/associations/talien/evenements/soiree-de-lancement
URL:https://www.tourisme-avrelucenoye.fr/sortie/talien-soiree-de-lancement-aux-voutes-du-plessier/
ATTACH;FMTTYPE=image/jpeg:https://www.tourisme-avrelucenoye.fr/wp-content/uploads/2026/02/28-04-talien-voutes.jpg
END:VEVENT
BEGIN:VEVENT
DTSTART;TZID=Europe/Paris:20260429T140000
DTEND;TZID=Europe/Paris:20260429T160000
DTSTAMP:20260424T054653
CREATED:20260417T091120Z
LAST-MODIFIED:20260417T091120Z
UID:23047-1777471200-1777478400@www.tourisme-avrelucenoye.fr
SUMMARY:Atelier Floral de Christelle à La bel Chévrerie d'Ailly sur Noye
DESCRIPTION:L’atelier Floral de Christelle vous propose  \nun atelier floral en duo adulte/enfant \nle mercredi 29 avril de 14h à 16h \ndans les locaux de Label Chévrerie à Ailly sur Noye  \nTarif : 40€ / DUO \ninscription obligatoire au 06 73 76 66 70 ou 06 68 83 34 28
URL:https://www.tourisme-avrelucenoye.fr/sortie/atelier-floral-de-christelle-a-la-bel-chevrerie-dailly-sur-noye/
ATTACH;FMTTYPE=image/jpeg:https://www.tourisme-avrelucenoye.fr/wp-content/uploads/2026/04/29-04-atelier-floral-chevrerie.jpeg
END:VEVENT
BEGIN:VEVENT
DTSTART;TZID=Europe/Paris:20260429T140000
DTEND;TZID=Europe/Paris:20260429T170000
DTSTAMP:20260424T054653
CREATED:20260417T094931Z
LAST-MODIFIED:20260417T094932Z
UID:23058-1777471200-1777482000@www.tourisme-avrelucenoye.fr
SUMMARY:Rando santé à Épagny : Rando Val de Noye
DESCRIPTION:Rando Val de Noye vous propose\nune rando santé à Moreuil\nle mercredi 29 Avril\nrendez-vous à 14h00 rue de la Faloise à Épagny\nrandonnée encadrée par Michel 06 10 18 89 13\nEn cas de vigilance météo\, la rando est annulée 
URL:https://www.tourisme-avrelucenoye.fr/sortie/rando-sante-a-epagny-rando-val-de-noye/
ATTACH;FMTTYPE=image/png:https://www.tourisme-avrelucenoye.fr/wp-content/uploads/2024/01/epagny-etangs-.png
END:VEVENT
BEGIN:VEVENT
DTSTART;TZID=Europe/Paris:20260430T084500
DTEND;TZID=Europe/Paris:20260430T120000
DTSTAMP:20260424T054653
CREATED:20260417T095548Z
LAST-MODIFIED:20260417T095548Z
UID:23064-1777538700-1777550400@www.tourisme-avrelucenoye.fr
SUMMARY:Marche nordique à Remiencourt : Rando Val de Noye
DESCRIPTION:Rando Val de Noye vous propose\nune marche nordique\nle jeudi 30 Avril\nrendez-vous à 8h45 église de Remiencourt\nrandonnée encadrée par Fabrice 06 85 79 82 82\nEn cas de vigilance météo\, la rando est annulée 
URL:https://www.tourisme-avrelucenoye.fr/sortie/marche-nordique-a-remiencourt-rando-val-de-noye/
ATTACH;FMTTYPE=image/jpeg:https://www.tourisme-avrelucenoye.fr/wp-content/uploads/2023/02/remiencourt-eglise-2-scaled-e1697537536808.jpg
END:VEVENT
BEGIN:VEVENT
DTSTART;TZID=Europe/Paris:20260502T190000
DTEND;TZID=Europe/Paris:20260502T203000
DTSTAMP:20260424T054653
CREATED:20250724T080007Z
LAST-MODIFIED:20250724T083735Z
UID:15173-1777748400-1777753800@www.tourisme-avrelucenoye.fr
SUMMARY:Concert "La musique sacrée Italienne"voix/piano à Quiry le Sec
DESCRIPTION:dans le cadre de la saison culturelle Avre Luce Noye\,  \net du Festival « Le patrimoine\, les Voix\, la Musique » 4ème édition \nConcert « La musique sacrée Italienne »voix/piano \nENTRÉE LIBRE / PARTICIPATION LIBRE  \nle samedi 2 mai à 19h00 \ndans l’église de Quiry le Sec \ntout public  \nCompositeurs : Monteverdi\, Scarlatti\, Vivaldi\, Pergolesi\, Rossini\, Verdi\, Puccini \nrenseignements et infos au 03 22 41 58 72 ou accueil.tourisme@avrelucenoye.fr
URL:https://www.tourisme-avrelucenoye.fr/sortie/concert-la-musique-sacree-italiennevoix-piano-a-quiry-le-sec/
ATTACH;FMTTYPE=image/png:https://www.tourisme-avrelucenoye.fr/wp-content/uploads/2025/07/28-04-au-09-05-patrimoine-les-voix-la-musique.png
END:VEVENT
BEGIN:VEVENT
DTSTART;TZID=Europe/Paris:20260503T070000
DTEND;TZID=Europe/Paris:20260503T170000
DTSTAMP:20260424T054653
CREATED:20260306T105159Z
LAST-MODIFIED:20260306T105200Z
UID:22641-1777791600-1777827600@www.tourisme-avrelucenoye.fr
SUMMARY:Vide Grenier au plan d'eau de Berny sur Noye emplacement GRATUIT
DESCRIPTION:le Café de Berny organise  \nun Vide Grenier  \nle dimanche 3 mai à partir de 7h \nau plan d’eau de Berny sur Noye  \nréservé uniquement aux particuliers  \nemplacement GRATUIT  \ninscription obligatoire au 03 22 41 05 81  \nbuvette et restauration sur place 
URL:https://www.tourisme-avrelucenoye.fr/sortie/vide-grenier-au-plan-deau-de-berny-sur-noye-emplacement-gratuit/
ATTACH;FMTTYPE=image/jpeg:https://www.tourisme-avrelucenoye.fr/wp-content/uploads/2026/03/03-05-vide-grenier-plan-deau-berny.jpg
END:VEVENT
BEGIN:VEVENT
DTSTART;TZID=Europe/Paris:20260503T084500
DTEND;TZID=Europe/Paris:20260503T120000
DTSTAMP:20260424T054653
CREATED:20260325T082244Z
LAST-MODIFIED:20260325T082244Z
UID:22810-1777797900-1777809600@www.tourisme-avrelucenoye.fr
SUMMARY:rando de 12km à Ailly sur Noye : Rando Aventure Moreuil
DESCRIPTION:Rando aventure Moreuil vous propose\nune randonnée 12 km\nle dimanche 03 mai \nrendez-vous à 8h45 parking Intermarché à Ailly sur Noye \nco-voiturage à 8h20 parking piscine Alméo à Moreuil\nrandonnée encadrée par Jacques 07.81.23.92.30\nmail : jacques.horemans80@outlook.fr\nEn cas de vigilance météo\, la rando est annulée
URL:https://www.tourisme-avrelucenoye.fr/sortie/rando-de-12km-a-ailly-sur-noye-rando-aventure-moreuil/
ATTACH;FMTTYPE=image/jpeg:https://www.tourisme-avrelucenoye.fr/wp-content/uploads/2026/03/ailly-sur-noye.jpg
END:VEVENT
BEGIN:VEVENT
DTSTART;TZID=Europe/Paris:20260505T180000
DTEND;TZID=Europe/Paris:20260505T200000
DTSTAMP:20260424T054653
CREATED:20260403T101725Z
LAST-MODIFIED:20260403T101725Z
UID:22922-1778004000-1778011200@www.tourisme-avrelucenoye.fr
SUMMARY:MAI à vélo : La fresque de la Mobilité / atelier à Moreuil GRATUIT
DESCRIPTION:la CCALN\, AVELO\, Alméo et le pôle Métropolitain du Grand amiénois vous invitent à  \nLa Fresque de la Mobilité \nle mardi 5 mai à 18h \nau Cente Aquatique Alméo rue Maurice Garin à Moreuil  \nGRATUIT  \nsur inscription au 06 43 24 50 00 ou  03 22 09 04 90 ou par mail : avelo3@grandamienois.com  \nConnaissez-vous l’impact de la mobilité en France ? Qu’est ce que le bilan carbone et comment l’améliorer ?  \nLa fresque est un atelier conçu pour échanger sur le sujet. \n 
URL:https://www.tourisme-avrelucenoye.fr/sortie/mai-a-velo-la-fresque-de-la-mobilite-atelier-a-moreuil-gratuit/
ATTACH;FMTTYPE=image/jpeg:https://www.tourisme-avrelucenoye.fr/wp-content/uploads/2026/04/05-05-mai-a-velo-ccaln.jpg
END:VEVENT
BEGIN:VEVENT
DTSTART;TZID=Europe/Paris:20260507T090000
DTEND;TZID=Europe/Paris:20260507T120000
DTSTAMP:20260424T054653
CREATED:20260325T152338Z
LAST-MODIFIED:20260325T152338Z
UID:22837-1778144400-1778155200@www.tourisme-avrelucenoye.fr
SUMMARY:rando santé à Domart sur la Luce : Rando Aventure Moreuil
DESCRIPTION:Rando aventure Moreuil vous propose\nune rando santé \nle jeudi 7 mai\nrendez-vous à 9h église de Domart sur la Luce \nrandonnée encadrée par Jacques 07.81.23.92.30\nmail : jacques.horemans80@outlook.fr\nEn cas de vigilance météo\, la rando est annulée
URL:https://www.tourisme-avrelucenoye.fr/sortie/rando-sante-a-domart-sur-la-luce-rando-aventure-moreuil/
ATTACH;FMTTYPE=image/jpeg:https://www.tourisme-avrelucenoye.fr/wp-content/uploads/2024/10/domartsurlaluce_avrelucenoye_somme_picardie.jpg
END:VEVENT
BEGIN:VEVENT
DTSTART;TZID=Europe/Paris:20260509T081500
DTEND;TZID=Europe/Paris:20260509T193000
DTSTAMP:20260424T054653
CREATED:20260416T071723Z
LAST-MODIFIED:20260416T071724Z
UID:23033-1778314500-1778355000@www.tourisme-avrelucenoye.fr
SUMMARY:Sortie en famille au Parc de Bagatelle à Merlimont
DESCRIPTION:la Mairie de Moreuil vous propose  \nune sortie en famille au Parc de Bagatelle à Merlimont \nle samedi 9 mai  \ndépart à 8h15 place Victor Hugo à Moreuil \nretour vers 19h30 \npensez à un pique nique \ninscription obligatoire avant le jeudi 30 varil au 03 22 09 97 06 ou periscolaire@moreuil.com \ntarifs :  \nFamilles Moreuilloises bénéficiaires Caf adulte 8€ enfant – 18 ans 4€ \nFamilles Moreuilloises non bénéficieras Caf  adulte 16€ enfant – 18 ans 8€ \nFamilles Hors commune de Moreuil  adulte 25€ enfant – 18 ans 20€ \nATTENTION places limitées\, priorité aux familles moreuilloises 
URL:https://www.tourisme-avrelucenoye.fr/sortie/sortie-en-famille-au-parc-de-bagatelle-a-merlimont/
ATTACH;FMTTYPE=image/jpeg:https://www.tourisme-avrelucenoye.fr/wp-content/uploads/2026/04/09-05-Sortie-en-famille-merlimont.jpg
END:VEVENT
BEGIN:VEVENT
DTSTART;TZID=Europe/Paris:20260509T100000
DTEND;TZID=Europe/Paris:20260510T170000
DTSTAMP:20260424T054653
CREATED:20260224T081319Z
LAST-MODIFIED:20260224T081320Z
UID:22506-1778320800-1778432400@www.tourisme-avrelucenoye.fr
SUMMARY:Fête du village à Coullemelle
DESCRIPTION:Fête du village à Coullemelle \nmanèges les 2 jours  \nle samedi 9 mai  \nà partir de 19h30 repas \nPaëlla : repas préparés par CP rôtisserie\, repas et buvette animés par LangeSing  \ntarifs : Paëlla + boisson au choix  \nadultes 16€ enfants 12€  \nle dimanche 10 mai  \nréderie rue de l’église avec ou sans réservation 06 63 38 04 77  \nrestauration et buvette le midi  \nle matin randonnée 6 et 12 km tarif 5€  \npour les plus courageux la fête continue le lundi soir avec présence d’une buvette 
URL:https://www.tourisme-avrelucenoye.fr/sortie/fete-du-village-a-coullemelle/
ATTACH;FMTTYPE=image/jpeg:https://www.tourisme-avrelucenoye.fr/wp-content/uploads/2026/02/9-et-10-05-fete-coulemelle.jpg
END:VEVENT
BEGIN:VEVENT
DTSTART;TZID=Europe/Paris:20260509T190000
DTEND;TZID=Europe/Paris:20260509T203000
DTSTAMP:20260424T054653
CREATED:20250724T080656Z
LAST-MODIFIED:20250724T083711Z
UID:15175-1778353200-1778358600@www.tourisme-avrelucenoye.fr
SUMMARY:Concert vocal de musique sacrée Baroque "Bach/Haendel/Vivaldi" à le Plessier Rozainvillers
DESCRIPTION:dans le cadre de la saison culturelle Avre Luce Noye\,  \net du Festival « Le patrimoine\, les Voix\, la Musique » 4ème édition \nConcert vocal de musique sacrée Baroque « Bach/Haendel/Vivaldi » \nENTRÉE LIBRE / PARTICIPATION LIBRE  \nle samedi 9 mai à 19h00 \ndans l’église de le Plessier Rozainvillers \ntout public  \nCompositeurs : Monteverdi\, Scarlatti\, Vivaldi\, Pergolesi\, Rossini\, Verdi\, Puccini \nrenseignements et infos au 03 22 41 58 72 ou accueil.tourisme@avrelucenoye.fr
URL:https://www.tourisme-avrelucenoye.fr/sortie/concert-vocal-de-musique-sacree-baroque-bach-haendel-vivaldi-a-le-plessier-rozainvillers/
ATTACH;FMTTYPE=image/png:https://www.tourisme-avrelucenoye.fr/wp-content/uploads/2025/07/28-04-au-09-05-patrimoine-les-voix-la-musique.png
END:VEVENT
BEGIN:VEVENT
DTSTART;TZID=Europe/Paris:20260510T084500
DTEND;TZID=Europe/Paris:20260510T120000
DTSTAMP:20260424T054653
CREATED:20260325T082523Z
LAST-MODIFIED:20260325T082523Z
UID:22813-1778402700-1778414400@www.tourisme-avrelucenoye.fr
SUMMARY:rando à La Neuville les Loeuilly 12km : Rando Aventure Moreuil
DESCRIPTION:Rando aventure Moreuil vous propose\nune randonnée 12 km\nle dimanche 10 mai \nrendez-vous à 8h45 église de la Neuville les Loeuilly\nco-voiturage à 8h20 à Moreuil\nrandonnée encadrée par Jacques 07.81.23.92.30\nmail : jacques.horemans80@outlook.fr\nEn cas de vigilance météo\, la rando est annulée
URL:https://www.tourisme-avrelucenoye.fr/sortie/rando-a-la-neuville-les-loeuilly-12km-rando-aventure-moreuil/
ATTACH;FMTTYPE=image/jpeg:https://www.tourisme-avrelucenoye.fr/wp-content/uploads/2023/07/la-neuville-les-loeuilly-eglise.jpg
END:VEVENT
BEGIN:VEVENT
DTSTART;TZID=Europe/Paris:20260510T090000
DTEND;TZID=Europe/Paris:20260510T120000
DTSTAMP:20260424T054653
CREATED:20260414T074507Z
LAST-MODIFIED:20260414T074507Z
UID:23013-1778403600-1778414400@www.tourisme-avrelucenoye.fr
SUMMARY:Marche de la fête du village de Coullemelle 6 et 12km
DESCRIPTION:l’association sportive de Grivesnes et le comité des fêtes de Coullemelle vous proposent  \nune marche de la fête du village  \nle dimanche 10 mai matin \n6 km et 12 km \n5€ pour les adultes \n3€ pour les enfants jusqu’à 10 ans  \navec un grand ravitaillement pour tous  \ninscription obligatoire  \nlacoullemelloise@gmail.com ou au 06 63 38 04 77  \n 
URL:https://www.tourisme-avrelucenoye.fr/sortie/marche-de-la-fete-du-village-de-coullemelle-6-et-12km/
ATTACH;FMTTYPE=image/jpeg:https://www.tourisme-avrelucenoye.fr/wp-content/uploads/2026/04/10-05-marche-coullemelle.jpg
END:VEVENT
END:VCALENDAR