BEGIN:VCALENDAR
VERSION:2.0
PRODID:-//Office de Tourisme Avre Luce Noye - ECPv6.15.20//NONSGML v1.0//EN
CALSCALE:GREGORIAN
METHOD:PUBLISH
X-WR-CALNAME:Office de Tourisme Avre Luce Noye
X-ORIGINAL-URL:https://www.tourisme-avrelucenoye.fr
X-WR-CALDESC:Évènements pour Office de Tourisme Avre Luce Noye
REFRESH-INTERVAL;VALUE=DURATION:PT1H
X-Robots-Tag:noindex
X-PUBLISHED-TTL:PT1H
BEGIN:VTIMEZONE
TZID:Europe/Paris
BEGIN:DAYLIGHT
TZOFFSETFROM:+0100
TZOFFSETTO:+0200
TZNAME:CEST
DTSTART:20250330T010000
END:DAYLIGHT
BEGIN:STANDARD
TZOFFSETFROM:+0200
TZOFFSETTO:+0100
TZNAME:CET
DTSTART:20251026T010000
END:STANDARD
BEGIN:DAYLIGHT
TZOFFSETFROM:+0100
TZOFFSETTO:+0200
TZNAME:CEST
DTSTART:20260329T010000
END:DAYLIGHT
BEGIN:STANDARD
TZOFFSETFROM:+0200
TZOFFSETTO:+0100
TZNAME:CET
DTSTART:20261025T010000
END:STANDARD
BEGIN:DAYLIGHT
TZOFFSETFROM:+0100
TZOFFSETTO:+0200
TZNAME:CEST
DTSTART:20270328T010000
END:DAYLIGHT
BEGIN:STANDARD
TZOFFSETFROM:+0200
TZOFFSETTO:+0100
TZNAME:CET
DTSTART:20271031T010000
END:STANDARD
END:VTIMEZONE
BEGIN:VEVENT
DTSTART;TZID=Europe/Paris:20260325T080000
DTEND;TZID=Europe/Paris:20261125T170000
DTSTAMP:20260424T112850
CREATED:20260122T111126Z
LAST-MODIFIED:20260122T111127Z
UID:22095-1774425600-1795626000@www.tourisme-avrelucenoye.fr
SUMMARY:visite du centre de tri du SMITOM GRATUIT à Rosières en Santerre
DESCRIPTION:le SMITOM vous propose \ndes visites du centre de tri à 14h00 \nsitué avenue du fossé Pierret à Rosières en Santerre \nle mercredi 25 mars \nle mercredi 17 juin \nle mercredi 23 septembre \nle mercredi 25 novembre  \ndurée de la visite 1h  \nréservation obligatoire au 03 22 78 60 69 \nsite non accessible aux personnes à mobilité réduite et aux enfants de moins de 8 ans 
URL:https://www.tourisme-avrelucenoye.fr/sortie/visite-du-centre-de-tri-du-smitom-gratuit-a-rosieres-en-santerre/
ATTACH;FMTTYPE=image/jpeg:https://www.tourisme-avrelucenoye.fr/wp-content/uploads/2026/01/visite-trimestrielle-2026-centre-de-tri-smitom.jpg
END:VEVENT
BEGIN:VEVENT
DTSTART;TZID=Europe/Paris:20260331T090000
DTEND;TZID=Europe/Paris:20260429T190000
DTSTAMP:20260424T112850
CREATED:20260319T082917Z
LAST-MODIFIED:20260319T082917Z
UID:22731-1774947600-1777489200@www.tourisme-avrelucenoye.fr
SUMMARY:Vernissage de l'exposition du peintre Dominique CHEDIN à la Bibliothèque Louis Seurvat à Ailly sur Noye GRATUIT
DESCRIPTION:Exposition de peinture de l’artiste peintre plasticienne Dominique CHEDIN \ndu mardi 31 mars au mercredi 29 avril \nVernisagge le vendredi 3 avril à partir de 18h  \nBibliothèque Louis Seurvat 13 rue Saint Martin à Ailly sur Noye  \nplus d’infos au 03 22 49 65 06  \nHoraires d’ouverture de la bibliothèque :  \nvendredi de 16h à 19h \nsamedi de 10h à 12h \nmardi de 16h à 19h \nmercredi de 9h à 12h30 et de 14h à 19h \n\n\n\nIllustrations (peinture\, arts plastiques) et tableaux scéniques autour de la littérature orale (contes\, légendes\, fables\, mythologie)\n\n\n \n\n\n\n\n\n\n 
URL:https://www.tourisme-avrelucenoye.fr/sortie/vernissage-de-lexposition-du-peintre-dominique-chedin-a-la-bibliotheque-louis-seurvat-a-ailly-sur-noye-gratuit/
ATTACH;FMTTYPE=image/jpeg:https://www.tourisme-avrelucenoye.fr/wp-content/uploads/2026/03/31-03-au-29-04-26-expo-ailly_page-0001-rotated.jpg
END:VEVENT
BEGIN:VEVENT
DTSTART;TZID=Europe/Paris:20260411T100000
DTEND;TZID=Europe/Paris:20260426T190000
DTSTAMP:20260424T112850
CREATED:20260415T091951Z
LAST-MODIFIED:20260415T091951Z
UID:23019-1775901600-1777230000@www.tourisme-avrelucenoye.fr
SUMMARY:Ouverture de Terrains d'aventure à Ailly sur Noye
DESCRIPTION:Terrains d’aventure – Ailly sur Noye \nLa saison 2026 ouvrira ses portes dès le Samedi 11 Avril.\nOuvert 7jrs/7 durant les vacances scolaires de la zone B\, puis Mercredis & week-ends hors vacances scolaires. \nHoraire d’ouverture: 10H-19H \nplus d’infos au 06 52 59 62 92 ou par mail à l’adresse suivante : terrainsdaventure@gmail.com \nou sur leur page Facebook : https://www.facebook.com/terrainsdaventure.fr
URL:https://www.tourisme-avrelucenoye.fr/sortie/ouverture-de-terrains-daventure-a-ailly-sur-noye/
ATTACH;FMTTYPE=image/jpeg:https://www.tourisme-avrelucenoye.fr/wp-content/uploads/2023/11/terraindaventure.jpg
END:VEVENT
BEGIN:VEVENT
DTSTART;TZID=Europe/Paris:20260411T133000
DTEND;TZID=Europe/Paris:20260930T180000
DTSTAMP:20260424T112850
CREATED:20260409T084728Z
LAST-MODIFIED:20260409T084812Z
UID:22954-1775914200-1790791200@www.tourisme-avrelucenoye.fr
SUMMARY:pédalos et mini-golf au plan d'eau de Berny sur Noye
DESCRIPTION:Du 11 avril au 26 avril ouvert tous les jours de 13h30 à 18h \nen Juillet et Aout  ouvert tous les jours de 13h30 à 19h \nDu 29 Avril au 3 Juillet et au mois de septembre ouvert Mercredis\, week ends et jours fériés (fermé le 1er mai) de 13h30 à 18h \nSOUS RÉSERVE DES CONDITIONS MÉTÉOROLOGIQUES \n  \nTarifs pédalos – 30 minutes \npédalos 2 places 6€ \npédalos 4 places 10€ \n  \nTarifs mini-golf \nAdulte 4€ \nEnfant et groupe 2€ \n  \nrenseignements au 03.22.41.71.71 ou mairie@aillysurnoye.fr
URL:https://www.tourisme-avrelucenoye.fr/sortie/pedalos-et-mini-golf-au-plan-deau-de-berny-sur-noye/
ATTACH;FMTTYPE=image/jpeg:https://www.tourisme-avrelucenoye.fr/wp-content/uploads/2026/04/tarif-et-dates-pedalo-minigolf.jpg
END:VEVENT
BEGIN:VEVENT
DTSTART;TZID=Europe/Paris:20260413T090000
DTEND;TZID=Europe/Paris:20260424T170000
DTSTAMP:20260424T112850
CREATED:20260324T100917Z
LAST-MODIFIED:20260324T100917Z
UID:22796-1776070800-1777050000@www.tourisme-avrelucenoye.fr
SUMMARY:Stages du centre équestre Val de Noye : ouverts à tous adhérents et non adhérents
DESCRIPTION:le Centre Équestre du Val de Noye vous propose\nSTAGE VACANCES D’AVRIL \nouverts à tous adhérents et non adhérents\ndu lundi 13 avril au vendredi 24 avril\n\n\nEnvie de progresser ou de partager un moment avec votre poney préféré du Centre Équestre du Val de Noye !\n\n\nVoici le planning des stages des vacances de février !\nplus d’infos et inscription au 06 20 97 03 30
URL:https://www.tourisme-avrelucenoye.fr/sortie/stages-du-centre-equestre-val-de-noye-ouverts-a-tous-adherents-et-non-adherents/
ATTACH;FMTTYPE=image/jpeg:https://www.tourisme-avrelucenoye.fr/wp-content/uploads/2026/03/13-au-24-04-stages-equestre-ailly.jpg
END:VEVENT
BEGIN:VEVENT
DTSTART;TZID=Europe/Paris:20260417T180000
DTEND;TZID=Europe/Paris:20261127T210000
DTSTAMP:20260424T112850
CREATED:20260414T072511Z
LAST-MODIFIED:20260414T072511Z
UID:23000-1776448800-1795813200@www.tourisme-avrelucenoye.fr
SUMMARY:Café associatif à Jumel tous les derniers vendredis du mois sauf en décembre
DESCRIPTION:l’association graines de liens vous propose  \nun moment de partage\, de rencontre en toute convivialité  \nchaque dernier vendredi du mois de 18h à 21h \nau café associatif situé au 6 rue Paul Bert à Jumel  \nadhésion annuelle de 2€  \ncontact : grainesdeliens@hotmail.com ou 06 10 22 33 64 \nQue vous soyez un habitué ou que ce soit votre première visite\, vous êtes le bienvenu pour découvrir cette atmosphère amicale dans un cadre accueillant.
URL:https://www.tourisme-avrelucenoye.fr/sortie/cafe-associatif-a-jumel-tous-les-derniers-vendredis-du-mois-sauf-en-decembre/
ATTACH;FMTTYPE=image/png:https://www.tourisme-avrelucenoye.fr/wp-content/uploads/2026/04/cafe-assoc-jumel.png
END:VEVENT
BEGIN:VEVENT
DTSTART;TZID=Europe/Paris:20260424T090000
DTEND;TZID=Europe/Paris:20260424T120000
DTSTAMP:20260424T112850
CREATED:20260417T100841Z
LAST-MODIFIED:20260417T100841Z
UID:23066-1777021200-1777032000@www.tourisme-avrelucenoye.fr
SUMMARY:Rando santé + à Rocquencourt : Rando Val de Noye
DESCRIPTION:Rando Val de Noye vous propose\nune rando santé+\nle vendredi 24 Avril \nrendez-vous à 9h église de Rocquencourt\nrandonnée encadrée par Daniel au 06.03.13.85.31\nou Michel au 06.10.18.89.13\nEn cas de vigilance météo\, la rando est annulée 
URL:https://www.tourisme-avrelucenoye.fr/sortie/rando-sante-a-rocquencourt-rando-val-de-noye/
ATTACH;FMTTYPE=image/jpeg:https://www.tourisme-avrelucenoye.fr/wp-content/uploads/2026/04/rocquencourt-eglise-2.jpg
END:VEVENT
BEGIN:VEVENT
DTSTART;TZID=Europe/Paris:20260424T203000
DTEND;TZID=Europe/Paris:20260424T203000
DTSTAMP:20260424T112850
CREATED:20260409T083542Z
LAST-MODIFIED:20260416T090617Z
UID:22952-1777062600-1777062600@www.tourisme-avrelucenoye.fr
SUMMARY:Ciné à Ailly sur Noye
DESCRIPTION:Ciné Pop et Ailly sur Noye vous présentent Alter Ego Laurent Lafitte\, un film de Nicolas et Bruno \nLe vendredi 24 Avril à 20h30 \nsalle des fêtes d’Ailly sur Noye \nTarif plein 5€ \nTarif réduits / groupe 4€ \nTarif groupe / enfant 3€ \n\nSynopsis / Tout public\n\n\nAlex a un problème : son nouveau voisin est son sosie parfait. Avec des cheveux. Un double en mieux\, qui va totalement bouleverser son existence.
URL:https://www.tourisme-avrelucenoye.fr/sortie/cine-a-aillly-sur-noye/
ATTACH;FMTTYPE=image/jpeg:https://www.tourisme-avrelucenoye.fr/wp-content/uploads/2026/04/24-04-cine-ailly-alter-ego.jpg
END:VEVENT
END:VCALENDAR